BEGIN:VCALENDAR
VERSION:2.0
PRODID:-//Corvette Club of Delaware Valley - ECPv6.15.20//NONSGML v1.0//EN
CALSCALE:GREGORIAN
METHOD:PUBLISH
X-ORIGINAL-URL:https://www.ccdv.com
X-WR-CALDESC:Events for Corvette Club of Delaware Valley
REFRESH-INTERVAL;VALUE=DURATION:PT1H
X-Robots-Tag:noindex
X-PUBLISHED-TTL:PT1H
BEGIN:VTIMEZONE
TZID:America/New_York
BEGIN:DAYLIGHT
TZOFFSETFROM:-0500
TZOFFSETTO:-0400
TZNAME:EDT
DTSTART:20240310T070000
END:DAYLIGHT
BEGIN:STANDARD
TZOFFSETFROM:-0400
TZOFFSETTO:-0500
TZNAME:EST
DTSTART:20241103T060000
END:STANDARD
BEGIN:DAYLIGHT
TZOFFSETFROM:-0500
TZOFFSETTO:-0400
TZNAME:EDT
DTSTART:20250309T070000
END:DAYLIGHT
BEGIN:STANDARD
TZOFFSETFROM:-0400
TZOFFSETTO:-0500
TZNAME:EST
DTSTART:20251102T060000
END:STANDARD
BEGIN:DAYLIGHT
TZOFFSETFROM:-0500
TZOFFSETTO:-0400
TZNAME:EDT
DTSTART:20260308T070000
END:DAYLIGHT
BEGIN:STANDARD
TZOFFSETFROM:-0400
TZOFFSETTO:-0500
TZNAME:EST
DTSTART:20261101T060000
END:STANDARD
END:VTIMEZONE
BEGIN:VEVENT
DTSTART;TZID=America/New_York:20251108T100000
DTEND;TZID=America/New_York:20251108T113000
DTSTAMP:20260422T100745
CREATED:20251030T022457Z
LAST-MODIFIED:20251030T022457Z
UID:29628-1762596000-1762601400@www.ccdv.com
SUMMARY:BREAKFAST AT FRANCONIA HERITAGE
DESCRIPTION:Sign-up by 12 Noon on 11/7/25\, by texting or calling Johnny Bacon at 215-208-6620.
URL:https://www.ccdv.com/event/breakfast-at-franconia-heritage/
END:VEVENT
BEGIN:VEVENT
DTSTART;TZID=America/New_York:20251113T190000
DTEND;TZID=America/New_York:20251113T200000
DTSTAMP:20260422T100745
CREATED:20250301T015551Z
LAST-MODIFIED:20250301T015551Z
UID:28206-1763060400-1763064000@www.ccdv.com
SUMMARY:CCDV Board Mtg via Zoom
DESCRIPTION:
URL:https://www.ccdv.com/event/ccdv-board-mtg-via-zoom-9/
END:VEVENT
BEGIN:VEVENT
DTSTART;TZID=America/New_York:20251119T200000
DTEND;TZID=America/New_York:20251119T203000
DTSTAMP:20260422T100745
CREATED:20250214T040618Z
LAST-MODIFIED:20250214T040618Z
UID:28002-1763582400-1763584200@www.ccdv.com
SUMMARY:CCDV General Membership Meeting
DESCRIPTION:All Members & potential new members are welcome. \nWarminster VFW Post #649 \n645 Louis Dr\, Warminster\, PA 18974
URL:https://www.ccdv.com/event/ccdv-general-membership-meeting-9/
END:VEVENT
END:VCALENDAR