BEGIN:VCALENDAR
VERSION:2.0
PRODID:-//Corvette Club of Delaware Valley - ECPv6.15.20//NONSGML v1.0//EN
CALSCALE:GREGORIAN
METHOD:PUBLISH
X-WR-CALNAME:Corvette Club of Delaware Valley
X-ORIGINAL-URL:https://www.ccdv.com
X-WR-CALDESC:Events for Corvette Club of Delaware Valley
REFRESH-INTERVAL;VALUE=DURATION:PT1H
X-Robots-Tag:noindex
X-PUBLISHED-TTL:PT1H
BEGIN:VTIMEZONE
TZID:America/New_York
BEGIN:DAYLIGHT
TZOFFSETFROM:-0500
TZOFFSETTO:-0400
TZNAME:EDT
DTSTART:20240310T070000
END:DAYLIGHT
BEGIN:STANDARD
TZOFFSETFROM:-0400
TZOFFSETTO:-0500
TZNAME:EST
DTSTART:20241103T060000
END:STANDARD
BEGIN:DAYLIGHT
TZOFFSETFROM:-0500
TZOFFSETTO:-0400
TZNAME:EDT
DTSTART:20250309T070000
END:DAYLIGHT
BEGIN:STANDARD
TZOFFSETFROM:-0400
TZOFFSETTO:-0500
TZNAME:EST
DTSTART:20251102T060000
END:STANDARD
BEGIN:DAYLIGHT
TZOFFSETFROM:-0500
TZOFFSETTO:-0400
TZNAME:EDT
DTSTART:20260308T070000
END:DAYLIGHT
BEGIN:STANDARD
TZOFFSETFROM:-0400
TZOFFSETTO:-0500
TZNAME:EST
DTSTART:20261101T060000
END:STANDARD
END:VTIMEZONE
BEGIN:VEVENT
DTSTART;VALUE=DATE:20250907
DTEND;VALUE=DATE:20250908
DTSTAMP:20260422T132044
CREATED:20250214T041258Z
LAST-MODIFIED:20250214T041258Z
UID:28004-1757203200-1757289599@www.ccdv.com
SUMMARY:Ocean City\, NJ Boardwalk Corvette Show
DESCRIPTION:Consider driving to the show along with your fellow CCDV members (A CCDV Caravan)!
URL:https://www.ccdv.com/event/ocean-city-nj-boardwalk-corvette-show/
END:VEVENT
BEGIN:VEVENT
DTSTART;VALUE=DATE:20250907
DTEND;VALUE=DATE:20250908
DTSTAMP:20260422T132044
CREATED:20250214T043154Z
LAST-MODIFIED:20250214T043154Z
UID:28019-1757203200-1757289599@www.ccdv.com
SUMMARY:Fiberglas & Steel Corvette Show
DESCRIPTION:The Allentown Area Corvette Club is hosting the Fiberglas & steel Show at Macungie Memorial Park.
URL:https://www.ccdv.com/event/fiberglas-steel-corvette-show/
END:VEVENT
BEGIN:VEVENT
DTSTART;TZID=America/New_York:20250911T190000
DTEND;TZID=America/New_York:20250911T200000
DTSTAMP:20260422T132044
CREATED:20250301T015413Z
LAST-MODIFIED:20250301T015413Z
UID:28202-1757617200-1757620800@www.ccdv.com
SUMMARY:CCDV Board Mtg via Zoom
DESCRIPTION:
URL:https://www.ccdv.com/event/ccdv-board-mtg-via-zoom-7/
END:VEVENT
BEGIN:VEVENT
DTSTART;VALUE=DATE:20250913
DTEND;VALUE=DATE:20250914
DTSTAMP:20260422T132044
CREATED:20250214T041423Z
LAST-MODIFIED:20250214T041423Z
UID:28006-1757721600-1757807999@www.ccdv.com
SUMMARY:CCDV Cavalcade of Corvettes
DESCRIPTION:Our 53rd Corvette Show! \nEnter your Corvette\, volunteer to help the show\, or spectate. It will be a fun day for all. \n 
URL:https://www.ccdv.com/event/ccdv-cavalcade-of-corvettes/
END:VEVENT
BEGIN:VEVENT
DTSTART;TZID=America/New_York:20250917T190000
DTEND;TZID=America/New_York:20250917T203000
DTSTAMP:20260422T132044
CREATED:20250214T040407Z
LAST-MODIFIED:20250214T040407Z
UID:27998-1758135600-1758141000@www.ccdv.com
SUMMARY:CCDV General Membership Meeting
DESCRIPTION:All Members & potential new members are welcome. \nWarminster VFW Post #649 \n645 Louis Dr\, Warminster\, PA 18974
URL:https://www.ccdv.com/event/ccdv-general-membership-meeting-7/
END:VEVENT
BEGIN:VEVENT
DTSTART;TZID=America/New_York:20250927T170000
DTEND;TZID=America/New_York:20250927T200000
DTSTAMP:20260422T132044
CREATED:20250914T215107Z
LAST-MODIFIED:20250914T215107Z
UID:29200-1758992400-1759003200@www.ccdv.com
SUMMARY:CCDV CRUISE NIGHT
DESCRIPTION:This is the final \nCruise Night of 2025.  FREE HOT DOGS will be given out to all!
URL:https://www.ccdv.com/event/ccdv-cruise-night-7/
END:VEVENT
BEGIN:VEVENT
DTSTART;TZID=America/New_York:20250928T093000
DTEND;TZID=America/New_York:20250928T110000
DTSTAMP:20260422T132044
CREATED:20250825T014736Z
LAST-MODIFIED:20250825T014736Z
UID:29121-1759051800-1759057200@www.ccdv.com
SUMMARY:Breakfast at LANCERS DINER
DESCRIPTION:You can Sign -Up in the FORUM\, or text/call Johnny Bacon at 215-208-6620\, and Johnny will put you on the list.
URL:https://www.ccdv.com/event/breakfast-at-lancers-diner/
END:VEVENT
END:VCALENDAR