BEGIN:VCALENDAR
VERSION:2.0
PRODID:-//Corvette Club of Delaware Valley - ECPv6.15.20//NONSGML v1.0//EN
CALSCALE:GREGORIAN
METHOD:PUBLISH
X-WR-CALNAME:Corvette Club of Delaware Valley
X-ORIGINAL-URL:https://www.ccdv.com
X-WR-CALDESC:Events for Corvette Club of Delaware Valley
REFRESH-INTERVAL;VALUE=DURATION:PT1H
X-Robots-Tag:noindex
X-PUBLISHED-TTL:PT1H
BEGIN:VTIMEZONE
TZID:America/New_York
BEGIN:DAYLIGHT
TZOFFSETFROM:-0500
TZOFFSETTO:-0400
TZNAME:EDT
DTSTART:20240310T070000
END:DAYLIGHT
BEGIN:STANDARD
TZOFFSETFROM:-0400
TZOFFSETTO:-0500
TZNAME:EST
DTSTART:20241103T060000
END:STANDARD
BEGIN:DAYLIGHT
TZOFFSETFROM:-0500
TZOFFSETTO:-0400
TZNAME:EDT
DTSTART:20250309T070000
END:DAYLIGHT
BEGIN:STANDARD
TZOFFSETFROM:-0400
TZOFFSETTO:-0500
TZNAME:EST
DTSTART:20251102T060000
END:STANDARD
BEGIN:DAYLIGHT
TZOFFSETFROM:-0500
TZOFFSETTO:-0400
TZNAME:EDT
DTSTART:20260308T070000
END:DAYLIGHT
BEGIN:STANDARD
TZOFFSETFROM:-0400
TZOFFSETTO:-0500
TZNAME:EST
DTSTART:20261101T060000
END:STANDARD
END:VTIMEZONE
BEGIN:VEVENT
DTSTART;TZID=America/New_York:20250406T180000
DTEND;TZID=America/New_York:20250406T200000
DTSTAMP:20260422T203511
CREATED:20250331T012009Z
LAST-MODIFIED:20250331T012009Z
UID:28491-1743962400-1743969600@www.ccdv.com
SUMMARY:Dinner at GIUSEPPE'S PIZZA in WARMINSTER on SUNDAY\, April 6th at 6pm
DESCRIPTION:Sign up on the Forum or Call John Benischeck at 215-208-6620.
URL:https://www.ccdv.com/event/dinner-at-giuseppes-pizza-in-warminster-on-sunday-april-6th-at-6pm/
END:VEVENT
BEGIN:VEVENT
DTSTART;TZID=America/New_York:20250410T190000
DTEND;TZID=America/New_York:20250410T200000
DTSTAMP:20260422T203511
CREATED:20250301T015006Z
LAST-MODIFIED:20250301T015006Z
UID:28192-1744311600-1744315200@www.ccdv.com
SUMMARY:CCDV Board Mtg via Zoom
DESCRIPTION:
URL:https://www.ccdv.com/event/ccdv-board-mtg-via-zoom-2/
END:VEVENT
BEGIN:VEVENT
DTSTART;TZID=America/New_York:20250416T190000
DTEND;TZID=America/New_York:20250416T203000
DTSTAMP:20260422T203511
CREATED:20250214T035905Z
LAST-MODIFIED:20250214T035905Z
UID:27988-1744830000-1744835400@www.ccdv.com
SUMMARY:CCDV General Membership Meeting
DESCRIPTION:All Members & potential new members are welcome. \nWarminster VFW Post #649 \n645 Louis Dr\, Warminster\, PA 18974
URL:https://www.ccdv.com/event/ccdv-general-membership-meeting-2/
END:VEVENT
BEGIN:VEVENT
DTSTART;TZID=America/New_York:20250419T170000
DTEND;TZID=America/New_York:20250419T200000
DTSTAMP:20260422T203511
CREATED:20250214T043728Z
LAST-MODIFIED:20250214T043728Z
UID:28021-1745082000-1745092800@www.ccdv.com
SUMMARY:CCDV Cruise Night
DESCRIPTION:Location: \nParking lot behind the shops at Valley Square (ie: PF Chang) \n1501 Main St\, Warrington\, PA  (between Rt 611 & Valley Square Blvd) \n5 pm til dusk\, All types of vehicles welcome \n  \nDates for all CCDV Cruise Nights: \nApril 19th \nMay 17th \nJune 21st \nJuly 19th \nAugust 16th \nSeptember 20th
URL:https://www.ccdv.com/event/ccdv-cruise-night/
END:VEVENT
BEGIN:VEVENT
DTSTART;TZID=America/New_York:20250426T080000
DTEND;TZID=America/New_York:20250426T120000
DTSTAMP:20260422T203511
CREATED:20250423T030957Z
LAST-MODIFIED:20250423T030957Z
UID:28604-1745654400-1745668800@www.ccdv.com
SUMMARY:Cars & Coffee in Newtown
DESCRIPTION:Cars & Coffee Cruise-In\n\n\n\n\n\n\n\nGet set to rev your engines and your awareness! Join us on Saturday\, April 26th\, 8:00AM – 12:00PM\, for a car cruise\, coffee\, story time\, and more to celebrate Autism Acceptance Month with Potential. All are welcome to this family-friendly community event.\n\n\n\n\n\n\nLearn More\n\n\n\n\n\n\n\n\n\n\n\n\n\n\n\n\n\n\n\n\n\n\n\n\n\n\n\n\n\n\n\n\n\n\n\n\n\n\nSpringtime School\n170 Pheasant Run\, Suite 100\, Newtown\, PA 18940\nView on map\n\n\n\n\n\n\n\n\n\n\n\n\n\n\n\n\n\n\n\n\n\n\n\nApr 26\, 2025 08:00am – Apr 26\, 2025 12:00pm \nAdd to Google · Outlook Web · Outlook Mobile · Yahoo · iCal\n\n\n\n\n\n\n\n\n\n\n\nRegister
URL:https://www.ccdv.com/event/cars-coffee-in-newtown/
END:VEVENT
BEGIN:VEVENT
DTSTART;TZID=America/New_York:20250426T100000
DTEND;TZID=America/New_York:20250426T113000
DTSTAMP:20260422T203511
CREATED:20250331T012457Z
LAST-MODIFIED:20250331T012623Z
UID:28495-1745661600-1745667000@www.ccdv.com
SUMMARY:Breakfast at Franconia Square Cafe on SATURDAY\, April 26th at 10:00am
DESCRIPTION:Sign Up on the FORUM or CALL JOHNNY BACON at 215-208-6620
URL:https://www.ccdv.com/event/breakfast-at-franconia-square-cafe-on-saturday-april-26th-at-1000am/
END:VEVENT
END:VCALENDAR