BEGIN:VCALENDAR
VERSION:2.0
PRODID:-//Corvette Club of Delaware Valley - ECPv6.15.20//NONSGML v1.0//EN
CALSCALE:GREGORIAN
METHOD:PUBLISH
X-WR-CALNAME:Corvette Club of Delaware Valley
X-ORIGINAL-URL:https://www.ccdv.com
X-WR-CALDESC:Events for Corvette Club of Delaware Valley
REFRESH-INTERVAL;VALUE=DURATION:PT1H
X-Robots-Tag:noindex
X-PUBLISHED-TTL:PT1H
BEGIN:VTIMEZONE
TZID:America/New_York
BEGIN:DAYLIGHT
TZOFFSETFROM:-0500
TZOFFSETTO:-0400
TZNAME:EDT
DTSTART:20240310T070000
END:DAYLIGHT
BEGIN:STANDARD
TZOFFSETFROM:-0400
TZOFFSETTO:-0500
TZNAME:EST
DTSTART:20241103T060000
END:STANDARD
BEGIN:DAYLIGHT
TZOFFSETFROM:-0500
TZOFFSETTO:-0400
TZNAME:EDT
DTSTART:20250309T070000
END:DAYLIGHT
BEGIN:STANDARD
TZOFFSETFROM:-0400
TZOFFSETTO:-0500
TZNAME:EST
DTSTART:20251102T060000
END:STANDARD
BEGIN:DAYLIGHT
TZOFFSETFROM:-0500
TZOFFSETTO:-0400
TZNAME:EDT
DTSTART:20260308T070000
END:DAYLIGHT
BEGIN:STANDARD
TZOFFSETFROM:-0400
TZOFFSETTO:-0500
TZNAME:EST
DTSTART:20261101T060000
END:STANDARD
END:VTIMEZONE
BEGIN:VEVENT
DTSTART;TZID=America/New_York:20250308T093000
DTEND;TZID=America/New_York:20250308T110000
DTSTAMP:20260422T220628
CREATED:20250214T042604Z
LAST-MODIFIED:20250214T042604Z
UID:28015-1741426200-1741431600@www.ccdv.com
SUMMARY:CCDV Breakfast @ Lancer's Diner
DESCRIPTION:Join us for Breakfast at Lancer’s Diner (9:30am) \n858 Easton Rd\, Horsham\, PA 19044
URL:https://www.ccdv.com/event/ccdv-breakfast-lancers-diner/
END:VEVENT
BEGIN:VEVENT
DTSTART;TZID=America/New_York:20250309T030000
DTEND;TZID=America/New_York:20250309T033000
DTSTAMP:20260422T220628
CREATED:20250221T042640Z
LAST-MODIFIED:20250221T042703Z
UID:28140-1741489200-1741491000@www.ccdv.com
SUMMARY:DST Starts
DESCRIPTION:Spring Ahead\,  Fall Back…
URL:https://www.ccdv.com/event/dst-starts-2/
END:VEVENT
BEGIN:VEVENT
DTSTART;TZID=America/New_York:20250313T190000
DTEND;TZID=America/New_York:20250313T200000
DTSTAMP:20260422T220628
CREATED:20250301T014829Z
LAST-MODIFIED:20250301T014829Z
UID:28190-1741892400-1741896000@www.ccdv.com
SUMMARY:CCDV Board Mtg via Zoom
DESCRIPTION:
URL:https://www.ccdv.com/event/ccdv-board-mtg-via-zoom/
END:VEVENT
BEGIN:VEVENT
DTSTART;TZID=America/New_York:20250315T180000
DTEND;TZID=America/New_York:20250315T200000
DTSTAMP:20260422T220628
CREATED:20250227T031800Z
LAST-MODIFIED:20250227T031925Z
UID:28169-1742061600-1742068800@www.ccdv.com
SUMMARY:CCDV Dinner @ Panache Woodfire Fire Grill (Blue Bell\, PA)
DESCRIPTION:
URL:https://www.ccdv.com/event/ccdv-dinner-penache-fire-grill-blue-bell-pa/
END:VEVENT
BEGIN:VEVENT
DTSTART;TZID=America/New_York:20250319T190000
DTEND;TZID=America/New_York:20250319T203000
DTSTAMP:20260422T220628
CREATED:20250214T035713Z
LAST-MODIFIED:20250214T035713Z
UID:27985-1742410800-1742416200@www.ccdv.com
SUMMARY:CCDV General Membership Meeting
DESCRIPTION:All Members & potential new members are welcome. \nWarminster VFW Post #649 \n645 Louis Dr\, Warminster\, PA 18974
URL:https://www.ccdv.com/event/ccdv-general-membership-meeting/
END:VEVENT
END:VCALENDAR