BEGIN:VCALENDAR
VERSION:2.0
PRODID:-//Corvette Club of Delaware Valley - ECPv6.15.20//NONSGML v1.0//EN
CALSCALE:GREGORIAN
METHOD:PUBLISH
X-WR-CALNAME:Corvette Club of Delaware Valley
X-ORIGINAL-URL:https://www.ccdv.com
X-WR-CALDESC:Events for Corvette Club of Delaware Valley
REFRESH-INTERVAL;VALUE=DURATION:PT1H
X-Robots-Tag:noindex
X-PUBLISHED-TTL:PT1H
BEGIN:VTIMEZONE
TZID:America/New_York
BEGIN:DAYLIGHT
TZOFFSETFROM:-0500
TZOFFSETTO:-0400
TZNAME:EDT
DTSTART:20230312T070000
END:DAYLIGHT
BEGIN:STANDARD
TZOFFSETFROM:-0400
TZOFFSETTO:-0500
TZNAME:EST
DTSTART:20231105T060000
END:STANDARD
BEGIN:DAYLIGHT
TZOFFSETFROM:-0500
TZOFFSETTO:-0400
TZNAME:EDT
DTSTART:20240310T070000
END:DAYLIGHT
BEGIN:STANDARD
TZOFFSETFROM:-0400
TZOFFSETTO:-0500
TZNAME:EST
DTSTART:20241103T060000
END:STANDARD
BEGIN:DAYLIGHT
TZOFFSETFROM:-0500
TZOFFSETTO:-0400
TZNAME:EDT
DTSTART:20250309T070000
END:DAYLIGHT
BEGIN:STANDARD
TZOFFSETFROM:-0400
TZOFFSETTO:-0500
TZNAME:EST
DTSTART:20251102T060000
END:STANDARD
END:VTIMEZONE
BEGIN:VEVENT
DTSTART;TZID=America/New_York:20241016T190000
DTEND;TZID=America/New_York:20241016T203000
DTSTAMP:20260422T184246
CREATED:20240507T024222Z
LAST-MODIFIED:20240516T020040Z
UID:25620-1729105200-1729110600@www.ccdv.com
SUMMARY:CCDV October General Meeting
DESCRIPTION:General Membership Meeting: \n\nWe meet the 3rd Wednesday of each month except in December\n\nTime:   \n\n7:00 pm (doors will be open at 6:00 pm)\n\nLocation:  \n\nWarminster VFW Post # 649\n645 Louis Dr\, Warminster\, PA 18974\nClick here for Google Map
URL:https://www.ccdv.com/event/october-general-meeting/
END:VEVENT
BEGIN:VEVENT
DTSTART;TZID=America/New_York:20241013T093000
DTEND;TZID=America/New_York:20241013T150000
DTSTAMP:20260422T184246
CREATED:20240615T032615Z
LAST-MODIFIED:20240929T193407Z
UID:26050-1728811800-1728831600@www.ccdv.com
SUMMARY:PA Tail of the Dragon (October 13\, 2024)
DESCRIPTION:Search…\n\n  \n\n\n\n\n\n\n\n\n\n\n\n\n\n\n\n\n\n\n\n\n\n\n\n\n\n\n\n\n\n\n\n\n\n\n\n\nPA Tail of the Dragon Corvette Run (October 13\, 2024)\n\n\n\n\n\n\n\n\n\n\n\n\n\n\n« All Events \nPA Tail of the Dragon Corvette Run (October 13\, 2024)\n\nOctober 13 @ 9:30 am – 3:00 pm\n\n\n\nTail of the Dragon Fall Run\nDear Enthusiasts\n\nCorvette Club Members. Thanks for your response. Pocono Mountains and valleys of up state Pennsylvania.  It is nice to be among club members and to appreciate what these Corvettes can do on the road.  I Hope that all will make it for this beautiful scenic ride.  We will meet at the Allentown Plaza at 9:30 and leave at 10:00 sharp. (Sunday October 13\, 2024). \nWe will begin getting off the first exit and on to Rt#78\, we will then travel for about 40miles to  Rt#501 and exit\, there is a gas station at the top of the ramp and anyone needing to go potty or fill up with gas(we will stop as a group.  We will then proceed on 501 until we get to RT#125\,  This is the beginning of the Tail of the Dragon.  Always be cautious when going thru small town intersections not all have Stop Signs. When we meet at the end of our ride in Shamokin\, we will have lunch at Brewser’s Sports Bar (839 W Water St\, Coal Township\, Pa 17866.  We will have a room available to us. I believe it can hold about 22 people. Unfortunately\, we only have so much room for this run.   If it rains\, we will not do this run.  Looks like a go.  Clouds and dry all systems go. Thank you and if you are making it we hope that you sign up on the forum or Contact me by e-mail ccdv@mortontowing.com or call me at 610-842-6648.  Great roads to enjoy your vette. 
URL:https://www.ccdv.com/event/pa-tail-of-the-dragon-october-13-2024/
END:VEVENT
BEGIN:VEVENT
DTSTART;TZID=America/New_York:20241013T093000
DTEND;TZID=America/New_York:20241013T150000
DTSTAMP:20260422T184246
CREATED:20240613T004741Z
LAST-MODIFIED:20240613T004757Z
UID:26038-1728811800-1728831600@www.ccdv.com
SUMMARY:PA Tail of the Dragon
DESCRIPTION:Tail of the Dragon Fall Run\nDear Enthusiasts\n\nCorvette Club Members. Thanks for your response. Pocono Mountains and valleys of up state Pennsylvania.  It is nice to be among club members and to appreciate what these Corvettes can do on the road.  I Hope that all will make it for this beautiful scenic ride.  We will meet at the Allentown Plaza at 9:30 and leave at 10:00 sharp. (Sunday October 14\, 2024).  \nWe will begin getting off the first exit and on to Rt#78\, we will then travel for about 40miles to  Rt#501 and exit\, there is a gas station at the top of the ramp and anyone needing to go potty or fill up with gas(we will stop as a group.  We will then proceed on 501 until we get to RT#125\,  This is the beginning of the Tail of the Dragon.  Always be cautious when going thru small town intersections not all have Stop Signs. When we meet at the end of our ride in Shamokin\, we will have lunch at Brewser’s Sports Bar (839 W Water St\, Coal Township\, Pa 17866.  We will have a room available to us. I believe it can hold about 22 people. Unfortunately we only have so much room for this run.   If it rains we will not do this run.  Looks like a go.  Clouds and dry all systems go. Thank you and if you are making it we hope that you sign up on the forum or Contact me by e-mail ccdv@mortontowing.com or call me at 610-842-6648.  Great roads to enjoy your vette. 
URL:https://www.ccdv.com/event/pa-tail-of-the-dragon/
END:VEVENT
BEGIN:VEVENT
DTSTART;TZID=America/New_York:20241013T093000
DTEND;TZID=America/New_York:20241013T150000
DTSTAMP:20260422T184246
CREATED:20240613T001525Z
LAST-MODIFIED:20240613T004214Z
UID:26032-1728811800-1728831600@www.ccdv.com
SUMMARY:PA Tail of the Dragon Corvette Run (October 13\, 2024)
DESCRIPTION:Tail of the Dragon Fall Run\nDear Enthusiasts\n\nCorvette Club Members. Thanks for your response. Pocono Mountains and valleys of up state Pennsylvania.  It is nice to be among club members and to appreciate what these Corvettes can do on the road.  I Hope that all will make it for this beautiful scenic ride.  We will meet at the Allentown Plaza at 9:30 and leave at 10:00 sharp. (Sunday October 14\, 2024).  \nWe will begin getting off the first exit and on to Rt#78\, we will then travel for about 40miles to  Rt#501 and exit\, there is a gas station at the top of the ramp and anyone needing to go potty or fill up with gas(we will stop as a group.  We will then proceed on 501 until we get to RT#125\,  This is the beginning of the Tail of the Dragon.  Always be cautious when going thru small town intersections not all have Stop Signs. When we meet at the end of our ride in Shamokin\, we will have lunch at Brewser’s Sports Bar (839 W Water St\, Coal Township\, Pa 17866.  We will have a room available to us. I believe it can hold about 22 people. Unfortunately we only have so much room for this run.   If it rains we will not do this run.  Looks like a go.  Clouds and dry all systems go. Thank you and if you are making it we hope that you sign up on the forum or Contact me by e-mail ccdv@mortontowing.com or call me at 610-842-6648.  Great roads to enjoy your vette. 
URL:https://www.ccdv.com/event/pa-tail-of-the-dragon-corvette-run-october-13-2024/
END:VEVENT
BEGIN:VEVENT
DTSTART;VALUE=DATE:20241012
DTEND;VALUE=DATE:20241013
DTSTAMP:20260422T184246
CREATED:20240507T024522Z
LAST-MODIFIED:20240516T014731Z
UID:25622-1728691200-1728777599@www.ccdv.com
SUMMARY:CCDV Wall Calendar Photos Due
DESCRIPTION:Attention all club members: \nEmail a photo of your Corvette to webmaster@ccdv.com \nAll photos submitted will be included in the Calendar. \nCalendars should be available @ November General Meeting. \nCCDV Calendars are back
URL:https://www.ccdv.com/event/ccdv-wall-calendar-photos-due/
END:VEVENT
BEGIN:VEVENT
DTSTART;TZID=America/New_York:20241010T190000
DTEND;TZID=America/New_York:20241010T203000
DTSTAMP:20260422T184246
CREATED:20240511T235930Z
LAST-MODIFIED:20240516T021535Z
UID:25693-1728586800-1728592200@www.ccdv.com
SUMMARY:CCDV October Board Meeting
DESCRIPTION:CCDV Board Meeting (via ZOOM)
URL:https://www.ccdv.com/event/october-board-meeting/
END:VEVENT
BEGIN:VEVENT
DTSTART;TZID=America/New_York:20241006T080000
DTEND;TZID=America/New_York:20241006T150000
DTSTAMP:20260422T184246
CREATED:20240513T001514Z
LAST-MODIFIED:20240516T023434Z
UID:25743-1728201600-1728226800@www.ccdv.com
SUMMARY:Peddler's Village Corvette Show
DESCRIPTION:
URL:https://www.ccdv.com/event/tri-state-corvette-show/
END:VEVENT
BEGIN:VEVENT
DTSTART;TZID=America/New_York:20241005T140000
DTEND;TZID=America/New_York:20241005T180000
DTSTAMP:20260422T184246
CREATED:20240615T012329Z
LAST-MODIFIED:20241003T203307Z
UID:26046-1728136800-1728151200@www.ccdv.com
SUMMARY:CCDV Club Members Picnic (October 5\, 2024)
DESCRIPTION:Edy & Jim Doan have been gracious enough to offer their home for the club Picnic.  Saturday\, Oct 5\, 2024 (2-6pm) \nCall John Benischeck to sign up: 215-208-6620
URL:https://www.ccdv.com/event/ccdv-club-members-picnic-october-5-2024/
END:VEVENT
BEGIN:VEVENT
DTSTART;TZID=America/New_York:20240928T100000
DTEND;TZID=America/New_York:20240928T113000
DTSTAMP:20260422T184246
CREATED:20240828T001349Z
LAST-MODIFIED:20240828T001349Z
UID:26755-1727517600-1727523000@www.ccdv.com
SUMMARY:BREAKFAST at ZOTO'S DINER at 10AM on Saturday\, September 28\, 2024
DESCRIPTION:Sign up on CCDV’s “FORUM” OR call Johnny Bacon at 215-208-6620.
URL:https://www.ccdv.com/event/breakfast-at-zotos-diner-at-10am-on-saturday-september-28-2024/
END:VEVENT
BEGIN:VEVENT
DTSTART;TZID=America/New_York:20240922T180000
DTEND;TZID=America/New_York:20240922T200000
DTSTAMP:20260422T184246
CREATED:20240827T230953Z
LAST-MODIFIED:20240827T231633Z
UID:26752-1727028000-1727035200@www.ccdv.com
SUMMARY:Dinner at Giuseppi's in Warminster on SUNDAY\, 9/22/24 at 6pm
DESCRIPTION:Go to Forum to sign up \nOR \nCall John Benischeck to sign up: 215-208-6620
URL:https://www.ccdv.com/event/dinner-at-giuseppis-in-warminster-on-9-22-24-at-6pm/
END:VEVENT
BEGIN:VEVENT
DTSTART;TZID=America/New_York:20240921T170000
DTEND;TZID=America/New_York:20240921T200000
DTSTAMP:20260422T184246
CREATED:20240507T021659Z
LAST-MODIFIED:20240516T021349Z
UID:25596-1726938000-1726948800@www.ccdv.com
SUMMARY:CCDV September Cruise Night
DESCRIPTION:
URL:https://www.ccdv.com/event/september-cruise-night/
END:VEVENT
BEGIN:VEVENT
DTSTART;TZID=America/New_York:20240918T190000
DTEND;TZID=America/New_York:20240918T203000
DTSTAMP:20260422T184246
CREATED:20240507T024107Z
LAST-MODIFIED:20240516T020000Z
UID:25618-1726686000-1726691400@www.ccdv.com
SUMMARY:CCDV September General Meeting
DESCRIPTION:General Membership Meeting: \n\nWe meet the 3rd Wednesday of each month except in December\n\nTime:   \n\n7:00 pm (doors will be open at 6:00 pm)\n\nLocation:  \n\nWarminster VFW Post # 649\n645 Louis Dr\, Warminster\, PA 18974\nClick here for Google Map
URL:https://www.ccdv.com/event/september-general-meeting/
END:VEVENT
BEGIN:VEVENT
DTSTART;TZID=America/New_York:20240914T100000
DTEND;TZID=America/New_York:20240914T150000
DTSTAMP:20260422T184246
CREATED:20240507T020728Z
LAST-MODIFIED:20240516T021253Z
UID:25584-1726308000-1726326000@www.ccdv.com
SUMMARY:CCDV's 52nd Annual Cavalcade of Corvettes
DESCRIPTION:Join us for our Annual Corvette Show. \nRain Date: Sat (9-28-24) \nAll details & forms are listed here……Click here \n  \n 
URL:https://www.ccdv.com/event/52nd-annual-cavalcade-of-corvettes/
END:VEVENT
BEGIN:VEVENT
DTSTART;TZID=America/New_York:20240912T190000
DTEND;TZID=America/New_York:20240912T203000
DTSTAMP:20260422T184246
CREATED:20240511T235825Z
LAST-MODIFIED:20240516T021145Z
UID:25691-1726167600-1726173000@www.ccdv.com
SUMMARY:CCDV September Board Meeting
DESCRIPTION:CCDV Board Meeting (via ZOOM)
URL:https://www.ccdv.com/event/september-board-meeting/
END:VEVENT
BEGIN:VEVENT
DTSTART;TZID=America/New_York:20240908T080000
DTEND;TZID=America/New_York:20240908T150000
DTSTAMP:20260422T184246
CREATED:20240512T202211Z
LAST-MODIFIED:20240516T021057Z
UID:25727-1725782400-1725807600@www.ccdv.com
SUMMARY:AACC Fiberglas & Steel All GM Show
DESCRIPTION:Allentown Area Corvette Club hosts this show at Macungie Memorial Park\, Lehigh Valley\, PA
URL:https://www.ccdv.com/event/fiberglas-steel-all-gm-show/
END:VEVENT
BEGIN:VEVENT
DTSTART;VALUE=DATE:20240908
DTEND;VALUE=DATE:20240909
DTSTAMP:20260422T184246
CREATED:20240507T023753Z
LAST-MODIFIED:20240516T023301Z
UID:25615-1725753600-1725839999@www.ccdv.com
SUMMARY:Boardwalk Corvettes Show
DESCRIPTION:Presented by Boardwalk Corvettes of Atlantic City \nShow is Sold Out. \nCCDV will once again be on the Boardwalk in Ocean City\, NJ! \nA great event – don’t miss it.
URL:https://www.ccdv.com/event/boardwalk-corvettes-show/
END:VEVENT
BEGIN:VEVENT
DTSTART;TZID=America/New_York:20240825T090000
DTEND;TZID=America/New_York:20240825T140000
DTSTAMP:20260422T184246
CREATED:20240813T131406Z
LAST-MODIFIED:20240813T131620Z
UID:26642-1724576400-1724594400@www.ccdv.com
SUMMARY:KAUFFMANS CHICKEN RUN August 25\, 2024
DESCRIPTION:This is a nice run\, originally put together by Dennis and Debbie Treys.  If you like a good meal and want to meet other club members.  We will meet at the Allentown Service Plaza at 9:00 am. We will have a drivers meeting and give out instructions\, then leave at 9:15 am.  If you are interested please contact Joe Parente at 610-842-6648 or send an e-mail to ccdv@mortontowing.com.  All are invited we hope to get a good turnout. Thank You
URL:https://www.ccdv.com/event/kauffmans-chicken-run-august-25-2024/
END:VEVENT
BEGIN:VEVENT
DTSTART;VALUE=DATE:20240823
DTEND;VALUE=DATE:20240824
DTSTAMP:20260422T184246
CREATED:20240507T023304Z
LAST-MODIFIED:20240507T023551Z
UID:25613-1724371200-1724457599@www.ccdv.com
SUMMARY:Corvettes @ Carlisle
DESCRIPTION:Thurs-Sat (8/22-8/24)
URL:https://www.ccdv.com/event/corvettes-carlisle-3/
END:VEVENT
BEGIN:VEVENT
DTSTART;VALUE=DATE:20240824
DTEND;VALUE=DATE:20240825
DTSTAMP:20260422T184246
CREATED:20240507T023223Z
LAST-MODIFIED:20240507T023512Z
UID:25611-1724457600-1724543999@www.ccdv.com
SUMMARY:Corvettes @ Carlisle
DESCRIPTION:Thurs-Sat (8/22-8/24)
URL:https://www.ccdv.com/event/corvettes-carlisle-2/
END:VEVENT
BEGIN:VEVENT
DTSTART;TZID=America/New_York:20240822T080000
DTEND;TZID=America/New_York:20240824T170000
DTSTAMP:20260422T184246
CREATED:20240507T023131Z
LAST-MODIFIED:20240507T023131Z
UID:25609-1724313600-1724518800@www.ccdv.com
SUMMARY:Corvettes @ Carlisle
DESCRIPTION:Thurs-Sat (8/22-8/24)
URL:https://www.ccdv.com/event/corvettes-carlisle/
END:VEVENT
BEGIN:VEVENT
DTSTART;TZID=America/New_York:20240821T190000
DTEND;TZID=America/New_York:20240821T203000
DTSTAMP:20260422T184246
CREATED:20240507T022953Z
LAST-MODIFIED:20240516T015911Z
UID:25607-1724266800-1724272200@www.ccdv.com
SUMMARY:CCDV August General Meeting
DESCRIPTION:General Membership Meeting: \n\nWe meet the 3rd Wednesday of each month except in December\n\nTime:   \n\n7:00 pm (doors will be open at 6:00 pm)\n\nLocation:  \n\nWarminster VFW Post # 649\n645 Louis Dr\, Warminster\, PA 18974\nClick here for Google Map
URL:https://www.ccdv.com/event/august-general-meeting/
END:VEVENT
BEGIN:VEVENT
DTSTART;TZID=America/New_York:20240817T170000
DTEND;TZID=America/New_York:20240817T200000
DTSTAMP:20260422T184246
CREATED:20240507T021609Z
LAST-MODIFIED:20240817T164042Z
UID:25594-1723914000-1723924800@www.ccdv.com
SUMMARY:August Cruise Night
DESCRIPTION:Sat\, August 17th Cruise Night Cancelled due to weather.
URL:https://www.ccdv.com/event/august-cruise-night/
END:VEVENT
BEGIN:VEVENT
DTSTART;TZID=America/New_York:20240808T190000
DTEND;TZID=America/New_York:20240808T203000
DTSTAMP:20260422T184246
CREATED:20240511T235726Z
LAST-MODIFIED:20240516T020835Z
UID:25689-1723143600-1723149000@www.ccdv.com
SUMMARY:CCDV August Board Meeting
DESCRIPTION:CCDV Board Meeting (via ZOOM)
URL:https://www.ccdv.com/event/august-board-meeting/
END:VEVENT
BEGIN:VEVENT
DTSTART;TZID=America/New_York:20240804T100000
DTEND;TZID=America/New_York:20240804T150000
DTSTAMP:20260422T184246
CREATED:20240717T193255Z
LAST-MODIFIED:20240717T193255Z
UID:26429-1722765600-1722783600@www.ccdv.com
SUMMARY:Shaeffer’s Canal Luncheon Run (August 4\, 2024)
DESCRIPTION:Shaeffer’s Canal Luncheon Run \,\n\nAugust 4\, 2024 @ 10:00 am – 3:00 pm\n\n\n\nWe are bringing it back again. If you enjoy good seafood and a way to meet other club members\, this is it. It’s a nice drive down as a caravan of Vette’s\, but don’t worry if you don’t have one and a club member you are more than welcome.  We will meet at 9:30 and leave at 10:00 sharp\, from Home Depot parking lot 2250 Easton Rd\, Willow Grove just before the turnpike.  After hanging out and having lunch on the way back\, if you are interested\, we will be stopping   at Sweet Cowolines 1074 Augustine Herman Hwy\, Elkton\, if you are interested\, please contact Joe Parente at 610-842-6648 or the email  CCDV@mortontowing.com \, or sign up on the forum. We have Reservations for 20+ at 12:00 \nThanks everyone and be safe…
URL:https://www.ccdv.com/event/shaeffers-canal-luncheon-run-august-4-2024/
END:VEVENT
BEGIN:VEVENT
DTSTART;VALUE=DATE:20240730
DTEND;VALUE=DATE:20240731
DTSTAMP:20260422T184246
CREATED:20240507T022431Z
LAST-MODIFIED:20240507T022431Z
UID:25600-1722297600-1722383999@www.ccdv.com
SUMMARY:Corvette's 71st Birthday !
DESCRIPTION:
URL:https://www.ccdv.com/event/corvettes-71st-birthday/
END:VEVENT
BEGIN:VEVENT
DTSTART;TZID=America/New_York:20240727T170000
DTEND;TZID=America/New_York:20240727T210000
DTSTAMP:20260422T184246
CREATED:20240513T000514Z
LAST-MODIFIED:20240513T000514Z
UID:25736-1722099600-1722114000@www.ccdv.com
SUMMARY:By The Moonlight Car Show
DESCRIPTION:By the Moonlite Car Show \nShow is on Saturday\, July 27\, 2024\nRegistration starts at 3PM – Show 5PM – 9PM\nPre-Registration $20 / Day of Show Registration $25\nNOTICE – Show has been relocated to the Athletic Lots off of Blooming Glen Road (Pennridge High School) \nRain date – July 28\, 2024 – Registration 10AM (Show 12PM – 4PM) \nAll years\, makes and models are welcome\nFood – Music – Trophies – Dash Plaques
URL:https://www.ccdv.com/event/by-the-moonlight-car-show/
END:VEVENT
BEGIN:VEVENT
DTSTART;TZID=America/New_York:20240721T170000
DTEND;TZID=America/New_York:20240721T200000
DTSTAMP:20260422T184246
CREATED:20240507T021514Z
LAST-MODIFIED:20240516T020639Z
UID:25592-1721581200-1721592000@www.ccdv.com
SUMMARY:CCDV July Cruise Night
DESCRIPTION:Note: July 21\, 2024 is a Sunday.
URL:https://www.ccdv.com/event/july-cruise-night/
END:VEVENT
BEGIN:VEVENT
DTSTART;TZID=America/New_York:20240720T170000
DTEND;TZID=America/New_York:20240720T220000
DTSTAMP:20260422T184246
CREATED:20240513T001809Z
LAST-MODIFIED:20240516T024358Z
UID:25745-1721494800-1721512800@www.ccdv.com
SUMMARY:Doylestown At Dusk
DESCRIPTION:
URL:https://www.ccdv.com/event/doylestown-at-dusk/
END:VEVENT
BEGIN:VEVENT
DTSTART;TZID=America/New_York:20240720T093000
DTEND;TZID=America/New_York:20240720T110000
DTSTAMP:20260422T184246
CREATED:20240620T181907Z
LAST-MODIFIED:20240620T181950Z
UID:26187-1721467800-1721473200@www.ccdv.com
SUMMARY:CCDV July Breakfast
DESCRIPTION:CCDV July Breakfast \nDate: Saturday 7-20-24 \nTime: 9:30am \nLocation: Lancer’s Diner \n858 Easton Rd\, Horsham\, PA 19044 \n(RSVP to John Benischeck by 1 pm on 7-19-24) \n 
URL:https://www.ccdv.com/event/ccdv-july-breakfast/
END:VEVENT
BEGIN:VEVENT
DTSTART;TZID=America/New_York:20240720T080000
DTEND;TZID=America/New_York:20240720T143000
DTSTAMP:20260422T184246
CREATED:20240512T202901Z
LAST-MODIFIED:20240516T024033Z
UID:25729-1721462400-1721485800@www.ccdv.com
SUMMARY:In-Vette-Tational Corvette Show
DESCRIPTION:Skyline Drive Corvette Club presents this show
URL:https://www.ccdv.com/event/in-vette-tational-corvette-show/
END:VEVENT
END:VCALENDAR