BEGIN:VCALENDAR
VERSION:2.0
PRODID:-//Corvette Club of Delaware Valley - ECPv6.15.20//NONSGML v1.0//EN
CALSCALE:GREGORIAN
METHOD:PUBLISH
X-ORIGINAL-URL:https://www.ccdv.com
X-WR-CALDESC:Events for Corvette Club of Delaware Valley
REFRESH-INTERVAL;VALUE=DURATION:PT1H
X-Robots-Tag:noindex
X-PUBLISHED-TTL:PT1H
BEGIN:VTIMEZONE
TZID:America/New_York
BEGIN:DAYLIGHT
TZOFFSETFROM:-0500
TZOFFSETTO:-0400
TZNAME:EDT
DTSTART:20240310T070000
END:DAYLIGHT
BEGIN:STANDARD
TZOFFSETFROM:-0400
TZOFFSETTO:-0500
TZNAME:EST
DTSTART:20241103T060000
END:STANDARD
BEGIN:DAYLIGHT
TZOFFSETFROM:-0500
TZOFFSETTO:-0400
TZNAME:EDT
DTSTART:20250309T070000
END:DAYLIGHT
BEGIN:STANDARD
TZOFFSETFROM:-0400
TZOFFSETTO:-0500
TZNAME:EST
DTSTART:20251102T060000
END:STANDARD
BEGIN:DAYLIGHT
TZOFFSETFROM:-0500
TZOFFSETTO:-0400
TZNAME:EDT
DTSTART:20260308T070000
END:DAYLIGHT
BEGIN:STANDARD
TZOFFSETFROM:-0400
TZOFFSETTO:-0500
TZNAME:EST
DTSTART:20261101T060000
END:STANDARD
BEGIN:DAYLIGHT
TZOFFSETFROM:-0500
TZOFFSETTO:-0400
TZNAME:EDT
DTSTART:20270314T070000
END:DAYLIGHT
BEGIN:STANDARD
TZOFFSETFROM:-0400
TZOFFSETTO:-0500
TZNAME:EST
DTSTART:20271107T060000
END:STANDARD
END:VTIMEZONE
BEGIN:VEVENT
DTSTART;TZID=America/New_York:20251206T180000
DTEND;TZID=America/New_York:20251206T220000
DTSTAMP:20260422T185847
CREATED:20250713T201906Z
LAST-MODIFIED:20251016T040607Z
UID:28966-1765044000-1765058400@www.ccdv.com
SUMMARY:CCDV Holiday Party !
DESCRIPTION:Flyer 2025 Holiday Party \nSign-Up for the 2025 Holiday Party ! \nSpring Mill Country Club \n80 Jacksonville Rd\, Ivyland\, PA 18974 \n215-675-6000 \nContact Johnny Bacon @ 215-208-6620
URL:https://www.ccdv.com/event/ccdv-holiday-party-2/
END:VEVENT
BEGIN:VEVENT
DTSTART;TZID=America/New_York:20251211T190000
DTEND;TZID=America/New_York:20251211T200000
DTSTAMP:20260422T185847
CREATED:20250301T015647Z
LAST-MODIFIED:20250301T015647Z
UID:28208-1765479600-1765483200@www.ccdv.com
SUMMARY:CCDV Board Mtg via Zoom
DESCRIPTION:
URL:https://www.ccdv.com/event/ccdv-board-mtg-via-zoom-10/
END:VEVENT
BEGIN:VEVENT
DTSTART;TZID=America/New_York:20251220T093000
DTEND;TZID=America/New_York:20251220T110000
DTSTAMP:20260422T185847
CREATED:20251130T021946Z
LAST-MODIFIED:20251130T021946Z
UID:29858-1766223000-1766228400@www.ccdv.com
SUMMARY:Breakfast at Warminster West Diner
DESCRIPTION:To sign up\, contact Johnny Bacon at 215-208-6620.
URL:https://www.ccdv.com/event/breakfast-at-warminster-west-diner/
END:VEVENT
BEGIN:VEVENT
DTSTART;TZID=America/New_York:20260104T170000
DTEND;TZID=America/New_York:20260104T190000
DTSTAMP:20260422T185847
CREATED:20251227T003531Z
LAST-MODIFIED:20251227T003531Z
UID:29990-1767546000-1767553200@www.ccdv.com
SUMMARY:DINNER AT TAORMINA'S Pizza and Pasta (of Richboro)
DESCRIPTION:To sign up: Call or text Johnny Bacon at 215-208-6620.
URL:https://www.ccdv.com/event/dinner-at-taorminas-pizza-and-pasta-of-richboro/
END:VEVENT
BEGIN:VEVENT
DTSTART;TZID=America/New_York:20260124T100000
DTEND;TZID=America/New_York:20260124T113000
DTSTAMP:20260422T185847
CREATED:20251227T003008Z
LAST-MODIFIED:20251227T003008Z
UID:29987-1769248800-1769254200@www.ccdv.com
SUMMARY:Breakfast at MICHAEL'S in Montgomeryville
DESCRIPTION:To sign up\, text or call Johnny Bacon @215-208-6620.
URL:https://www.ccdv.com/event/breakfast-at-michaels-in-montgomeryville/
END:VEVENT
BEGIN:VEVENT
DTSTART;TZID=America/New_York:20260207T093000
DTEND;TZID=America/New_York:20260207T110000
DTSTAMP:20260422T185847
CREATED:20260201T215030Z
LAST-MODIFIED:20260201T215030Z
UID:30106-1770456600-1770462000@www.ccdv.com
SUMMARY:BREAKFAST at LANCERS DINER on FEBRUARY 7\, 2026 at 9:30am
DESCRIPTION:If you are interested in attending\, text or call John Benischeck at 215-208-6620.
URL:https://www.ccdv.com/event/breakfast-at-lancers-diner-on-february-7-2026-at-930am/
END:VEVENT
BEGIN:VEVENT
DTSTART;TZID=America/New_York:20260228T170000
DTEND;TZID=America/New_York:20260228T190000
DTSTAMP:20260422T185847
CREATED:20260201T215846Z
LAST-MODIFIED:20260201T215846Z
UID:30108-1772298000-1772305200@www.ccdv.com
SUMMARY:DINNER at PANACHE WOODFIRE GRILL (in Blue Bell) on SATURDAY\, FEBRUARY 28\, 2026 at 5:00pm
DESCRIPTION:If you are interested in attending\, just text or call John Benischeck at 215-208-6620.
URL:https://www.ccdv.com/event/dinner-at-panache-woodfire-grill-in-blue-bell-on-saturday-february-28-2026-at-500pm/
END:VEVENT
BEGIN:VEVENT
DTSTART;TZID=America/New_York:20260314T093000
DTEND;TZID=America/New_York:20260314T230000
DTSTAMP:20260422T185847
CREATED:20260302T024441Z
LAST-MODIFIED:20260302T024441Z
UID:30307-1773480600-1773529200@www.ccdv.com
SUMMARY:Breakfast at SANTIAGO'S in HORSHAM
DESCRIPTION:To sign-up: Text or call Johnny Bacon at 215-208-6620.
URL:https://www.ccdv.com/event/breakfast-at-santiagos-in-horsham/
END:VEVENT
BEGIN:VEVENT
DTSTART;TZID=America/New_York:20260329T170000
DTEND;TZID=America/New_York:20260329T190000
DTSTAMP:20260422T185847
CREATED:20260302T024817Z
LAST-MODIFIED:20260302T024817Z
UID:30310-1774803600-1774810800@www.ccdv.com
SUMMARY:Dinner at AMALIO'S PIZZA & PASTA in Warminster at 5PM
DESCRIPTION:To sign up: Text or call Johnny Bacon at 215-208-6620
URL:https://www.ccdv.com/event/dinner-at-amalios-pizza-pasta-in-warminster-at-5pm/
END:VEVENT
BEGIN:VEVENT
DTSTART;TZID=America/New_York:20260412T180000
DTEND;TZID=America/New_York:20260412T200000
DTSTAMP:20260422T185847
CREATED:20260330T220928Z
LAST-MODIFIED:20260330T220928Z
UID:30387-1776016800-1776024000@www.ccdv.com
SUMMARY:Dinner at MIKE'S YORK ROAD TAVERN ON SUNDAY at 6PM
DESCRIPTION:If you are interested in joining us for this evening party\, text or call (215-208-6620) Johnny Bacon to be put on the list.
URL:https://www.ccdv.com/event/dinner-at-mikes-york-road-tavern-on-sunday-at-6pm/
END:VEVENT
BEGIN:VEVENT
DTSTART;TZID=America/New_York:20260418T083000
DTEND;TZID=America/New_York:20260418T100000
DTSTAMP:20260422T185847
CREATED:20260330T220401Z
LAST-MODIFIED:20260330T220401Z
UID:30385-1776501000-1776506400@www.ccdv.com
SUMMARY:Breakfast at LANCERS DINER at 8:30am
DESCRIPTION:If you are interested in joining us for this morning party\, text or call Johnny Bacon (at 215-208-6620) to be put on the list.
URL:https://www.ccdv.com/event/breakfast-at-lancers-diner-at-830am/
END:VEVENT
END:VCALENDAR