BEGIN:VCALENDAR
VERSION:2.0
PRODID:-//Corvette Club of Delaware Valley - ECPv6.15.20//NONSGML v1.0//EN
CALSCALE:GREGORIAN
METHOD:PUBLISH
X-WR-CALNAME:Corvette Club of Delaware Valley
X-ORIGINAL-URL:https://www.ccdv.com
X-WR-CALDESC:Events for Corvette Club of Delaware Valley
REFRESH-INTERVAL;VALUE=DURATION:PT1H
X-Robots-Tag:noindex
X-PUBLISHED-TTL:PT1H
BEGIN:VTIMEZONE
TZID:America/New_York
BEGIN:DAYLIGHT
TZOFFSETFROM:-0500
TZOFFSETTO:-0400
TZNAME:EDT
DTSTART:20240310T070000
END:DAYLIGHT
BEGIN:STANDARD
TZOFFSETFROM:-0400
TZOFFSETTO:-0500
TZNAME:EST
DTSTART:20241103T060000
END:STANDARD
BEGIN:DAYLIGHT
TZOFFSETFROM:-0500
TZOFFSETTO:-0400
TZNAME:EDT
DTSTART:20250309T070000
END:DAYLIGHT
BEGIN:STANDARD
TZOFFSETFROM:-0400
TZOFFSETTO:-0500
TZNAME:EST
DTSTART:20251102T060000
END:STANDARD
BEGIN:DAYLIGHT
TZOFFSETFROM:-0500
TZOFFSETTO:-0400
TZNAME:EDT
DTSTART:20260308T070000
END:DAYLIGHT
BEGIN:STANDARD
TZOFFSETFROM:-0400
TZOFFSETTO:-0500
TZNAME:EST
DTSTART:20261101T060000
END:STANDARD
END:VTIMEZONE
BEGIN:VEVENT
DTSTART;TZID=America/New_York:20250911T190000
DTEND;TZID=America/New_York:20250911T200000
DTSTAMP:20260422T174759
CREATED:20250301T015413Z
LAST-MODIFIED:20250301T015413Z
UID:28202-1757617200-1757620800@www.ccdv.com
SUMMARY:CCDV Board Mtg via Zoom
DESCRIPTION:
URL:https://www.ccdv.com/event/ccdv-board-mtg-via-zoom-7/
END:VEVENT
BEGIN:VEVENT
DTSTART;VALUE=DATE:20250907
DTEND;VALUE=DATE:20250908
DTSTAMP:20260422T174759
CREATED:20250214T043154Z
LAST-MODIFIED:20250214T043154Z
UID:28019-1757203200-1757289599@www.ccdv.com
SUMMARY:Fiberglas & Steel Corvette Show
DESCRIPTION:The Allentown Area Corvette Club is hosting the Fiberglas & steel Show at Macungie Memorial Park.
URL:https://www.ccdv.com/event/fiberglas-steel-corvette-show/
END:VEVENT
BEGIN:VEVENT
DTSTART;VALUE=DATE:20250907
DTEND;VALUE=DATE:20250908
DTSTAMP:20260422T174759
CREATED:20250214T041258Z
LAST-MODIFIED:20250214T041258Z
UID:28004-1757203200-1757289599@www.ccdv.com
SUMMARY:Ocean City\, NJ Boardwalk Corvette Show
DESCRIPTION:Consider driving to the show along with your fellow CCDV members (A CCDV Caravan)!
URL:https://www.ccdv.com/event/ocean-city-nj-boardwalk-corvette-show/
END:VEVENT
BEGIN:VEVENT
DTSTART;TZID=America/New_York:20250828T080000
DTEND;TZID=America/New_York:20250830T170000
DTSTAMP:20260422T174759
CREATED:20250214T041602Z
LAST-MODIFIED:20250214T041602Z
UID:28008-1756368000-1756573200@www.ccdv.com
SUMMARY:Corvettes at Carlisle
DESCRIPTION:The biggest Corvette show on the East Coast. \nConsider joining fellow club members on your trip to Carlisle\, PA
URL:https://www.ccdv.com/event/corvettes-at-carlisle/
END:VEVENT
BEGIN:VEVENT
DTSTART;TZID=America/New_York:20250823T180000
DTEND;TZID=America/New_York:20250823T200000
DTSTAMP:20260422T174759
CREATED:20250729T025212Z
LAST-MODIFIED:20250729T025212Z
UID:29006-1755972000-1755979200@www.ccdv.com
SUMMARY:Dinner at CHICKIE & PETE'S at 500 Easton Road
DESCRIPTION:To sign-up\, call or text Johnny Bacon at 215-208-6620\, OR sign-up on the FORUM\, which is in this CCDV Website.
URL:https://www.ccdv.com/event/dinner-at-chickie-petes-at-500-easton-road/
END:VEVENT
BEGIN:VEVENT
DTSTART;TZID=America/New_York:20250820T190000
DTEND;TZID=America/New_York:20250820T203000
DTSTAMP:20260422T174759
CREATED:20250214T040259Z
LAST-MODIFIED:20250214T040259Z
UID:27996-1755716400-1755721800@www.ccdv.com
SUMMARY:CCDV General Membership Meeting
DESCRIPTION:All Members & potential new members are welcome. \nWarminster VFW Post #649 \n645 Louis Dr\, Warminster\, PA 18974
URL:https://www.ccdv.com/event/ccdv-general-membership-meeting-6/
END:VEVENT
BEGIN:VEVENT
DTSTART;TZID=America/New_York:20250816T170000
DTEND;TZID=America/New_York:20250816T200000
DTSTAMP:20260422T174759
CREATED:20250214T044035Z
LAST-MODIFIED:20250214T044035Z
UID:28029-1755363600-1755374400@www.ccdv.com
SUMMARY:CCDV Cruise Night
DESCRIPTION:Location: \nParking lot behind the shops at Valley Square (ie: PF Chang) \n1501 Main St\, Warrington\, PA  (between Rt 611 & Valley Square Blvd) \n5 pm til dusk\, All types of vehicles welcome \n  \nDates for all CCDV Cruise Nights: \nApril 19th \nMay 17th \nJune 21st \nJuly 19th \nAugust 16th \nSeptember 20th
URL:https://www.ccdv.com/event/ccdv-cruise-night-5/
END:VEVENT
BEGIN:VEVENT
DTSTART;TZID=America/New_York:20250814T190000
DTEND;TZID=America/New_York:20250814T200000
DTSTAMP:20260422T174759
CREATED:20250301T015318Z
LAST-MODIFIED:20250301T015318Z
UID:28200-1755198000-1755201600@www.ccdv.com
SUMMARY:CCDV Board Mtg via Zoom
DESCRIPTION:
URL:https://www.ccdv.com/event/ccdv-board-mtg-via-zoom-6/
END:VEVENT
BEGIN:VEVENT
DTSTART;TZID=America/New_York:20250810T093000
DTEND;TZID=America/New_York:20250810T110000
DTSTAMP:20260422T174759
CREATED:20250729T024704Z
LAST-MODIFIED:20250729T024704Z
UID:29004-1754818200-1754823600@www.ccdv.com
SUMMARY:Breakfast at BEN & IRV'S
DESCRIPTION:To sign-up\, call or text Johnny Bacon at 215-208-6620\, OR sign-up on the FORUM in this CCDV Website.
URL:https://www.ccdv.com/event/breakfast-at-ben-irvs/
END:VEVENT
BEGIN:VEVENT
DTSTART;TZID=America/New_York:20250727T090000
DTEND;TZID=America/New_York:20250727T153000
DTSTAMP:20260422T174759
CREATED:20250304T083543Z
LAST-MODIFIED:20250304T083543Z
UID:28244-1753606800-1753630200@www.ccdv.com
SUMMARY:Road Angels Car Show
DESCRIPTION:Dublin Fire Company \n194 N Main St  (Rt 313)\, Dublin\, PA 18917 \nShow is for Vehicles 1989 or earlier
URL:https://www.ccdv.com/event/road-angels-car-show/
END:VEVENT
BEGIN:VEVENT
DTSTART;TZID=America/New_York:20250726T093000
DTEND;TZID=America/New_York:20250726T110000
DTSTAMP:20260422T174759
CREATED:20250626T031327Z
LAST-MODIFIED:20250626T031327Z
UID:28856-1753522200-1753527600@www.ccdv.com
SUMMARY:Breakfast at BREAK TIME DINER on Saturday\, July 26th at 9:30am
DESCRIPTION:If you want to attend\, just call or text John Benischeck at 215-208-6620. Or you can sign up on THE FORUM on the CCDV Website.
URL:https://www.ccdv.com/event/breakfast-at-break-time-diner-on-saturday-july-26th-at-930am/
END:VEVENT
BEGIN:VEVENT
DTSTART;TZID=America/New_York:20250720T140000
DTEND;TZID=America/New_York:20250720T160000
DTSTAMP:20260422T174759
CREATED:20250703T063346Z
LAST-MODIFIED:20250703T063346Z
UID:28917-1753020000-1753027200@www.ccdv.com
SUMMARY:Cavalcade Judging Seminar
DESCRIPTION:Start time: 2pm \nBring a chair. \nWe need anyone interested in being a judge at this year’s Cavalcade of Corvettes to attend this training seminar. \nWe will share our plan\, feedback from last year\, tips from other judges\, & the overall process that all judges need to follow. \nMeet at Bryner Chevrolet Service Dropoff entrance. \nContact Tom for more info: webmaster@ccdv.com
URL:https://www.ccdv.com/event/cavalcade-judging-seminar/
END:VEVENT
BEGIN:VEVENT
DTSTART;TZID=America/New_York:20250719T170000
DTEND;TZID=America/New_York:20250719T200000
DTSTAMP:20260422T174759
CREATED:20250214T043945Z
LAST-MODIFIED:20250719T145144Z
UID:28027-1752944400-1752955200@www.ccdv.com
SUMMARY:CCDV Cruise Night
DESCRIPTION:**Cancelled due to Rain** \nLocation: \nParking lot behind the shops at Valley Square (ie: PF Chang) \n1501 Main St\, Warrington\, PA  (between Rt 611 & Valley Square Blvd) \n5 pm til dusk\, All types of vehicles welcome \n  \nDates for all CCDV Cruise Nights: \nApril 19th \nMay 17th \nJune 21st \nJuly 19th \nAugust 16th \nSeptember 20th
URL:https://www.ccdv.com/event/ccdv-cruise-night-4/
END:VEVENT
BEGIN:VEVENT
DTSTART;TZID=America/New_York:20250716T190000
DTEND;TZID=America/New_York:20250716T203000
DTSTAMP:20260422T174759
CREATED:20250214T040206Z
LAST-MODIFIED:20250214T040206Z
UID:27994-1752692400-1752697800@www.ccdv.com
SUMMARY:CCDV General Membership Meeting
DESCRIPTION:All Members & potential new members are welcome. \nWarminster VFW Post #649 \n645 Louis Dr\, Warminster\, PA 18974
URL:https://www.ccdv.com/event/ccdv-general-membership-meeting-5/
END:VEVENT
BEGIN:VEVENT
DTSTART;TZID=America/New_York:20250713T170000
DTEND;TZID=America/New_York:20250713T190000
DTSTAMP:20260422T174759
CREATED:20250626T032306Z
LAST-MODIFIED:20250626T032306Z
UID:28860-1752426000-1752433200@www.ccdv.com
SUMMARY:Dinner at TAORMINA'S (in Richboro) 130 Almshouse Road\, Suite 501 on SUNDAY\, July 13th at 5PM
DESCRIPTION:If you want to join the party\, just call or text John Benischeck at 215-208-6620. Or you can sign-up on THE FORUM on the CCDV Website.
URL:https://www.ccdv.com/event/dinner-at-taorminas-in-richboro-130-almshouse-road-suite-501-on-sunday-july-13th-at-5pm/
END:VEVENT
BEGIN:VEVENT
DTSTART;TZID=America/New_York:20250712T170000
DTEND;TZID=America/New_York:20250712T200000
DTSTAMP:20260422T174759
CREATED:20250711T023820Z
LAST-MODIFIED:20250711T023820Z
UID:28950-1752339600-1752350400@www.ccdv.com
SUMMARY:XMAS in July at (Willow Grove VFW)
DESCRIPTION:Christmas in July Community Event on Saturday July 12th 2025 from 5p – 8p\, @ VFW Post 3612 on 305 W. Moreland Rd in Willow Grove  –  with a special appearance by Santa. Bring the family down and check out the Corvettes\, activities for kids\, and enjoy some hamburgers and hotdogs as well. This is a good weather only event (with no rain date).\n \nEmail Candy @ cmerlino.ccdv@yahoo.com if planning on putting your vette in the show. Space is limited.
URL:https://www.ccdv.com/event/xmas-in-july-at-willow-grove-vfw/
END:VEVENT
BEGIN:VEVENT
DTSTART;TZID=America/New_York:20250710T190000
DTEND;TZID=America/New_York:20250710T200000
DTSTAMP:20260422T174759
CREATED:20250301T015228Z
LAST-MODIFIED:20250301T015228Z
UID:28198-1752174000-1752177600@www.ccdv.com
SUMMARY:CCDV Board Mtg via Zoom
DESCRIPTION:
URL:https://www.ccdv.com/event/ccdv-board-mtg-via-zoom-5/
END:VEVENT
BEGIN:VEVENT
DTSTART;VALUE=DATE:20250704
DTEND;VALUE=DATE:20250705
DTSTAMP:20260422T174759
CREATED:20250526T210538Z
LAST-MODIFIED:20250630T060613Z
UID:28688-1751587200-1751673599@www.ccdv.com
SUMMARY:Oreland Independence Day Parade!
DESCRIPTION:Join your fellow CCDV Members to celebrate July 4th in a classic small town parade. Our club attends every year & it’s a ton of fun. We drive in the parade & throw candy to the kids along the route through Oreland. we end at the Oreland Firehouse where there’s food & drink for all. Bring lots of candy! All members are invited… \n(On July 4th\, meet at theAcme on Limekiln Pike and Twining Rd. in Dresher at 9:00 am). We all caravan to the parade from there.
URL:https://www.ccdv.com/event/independence-day-2/
END:VEVENT
BEGIN:VEVENT
DTSTART;VALUE=DATE:20250630
DTEND;VALUE=DATE:20250701
DTSTAMP:20260422T174759
CREATED:20250214T041840Z
LAST-MODIFIED:20250214T041840Z
UID:28010-1751241600-1751327999@www.ccdv.com
SUMMARY:Happy Birthday Corvette!
DESCRIPTION:June 30th is the Official Birthday of the Chevrolet Corvette! \nHappy Birthday Corvette!!
URL:https://www.ccdv.com/event/happy-birthday-corvette/
END:VEVENT
BEGIN:VEVENT
DTSTART;TZID=America/New_York:20250629T093000
DTEND;TZID=America/New_York:20250629T110000
DTSTAMP:20260422T174759
CREATED:20250528T042438Z
LAST-MODIFIED:20250528T042438Z
UID:28714-1751189400-1751194800@www.ccdv.com
SUMMARY:Breakfast at LANCERS DINER on SUNDAY\, JUNE 29th at 9:30am
DESCRIPTION:To Sign-Up: Call or Text John B at 215-208-6620 ….or Post a response on CCDV’s FORUM on our Website.
URL:https://www.ccdv.com/event/breakfast-at-lancers-diner-on-sunday-june-29th-at-930am/
END:VEVENT
BEGIN:VEVENT
DTSTART;TZID=America/New_York:20250621T170000
DTEND;TZID=America/New_York:20250621T200000
DTSTAMP:20260422T174759
CREATED:20250214T043905Z
LAST-MODIFIED:20250214T043905Z
UID:28025-1750525200-1750536000@www.ccdv.com
SUMMARY:CCDV Cruise Night
DESCRIPTION:Location: \nParking lot behind the shops at Valley Square (ie: PF Chang) \n1501 Main St\, Warrington\, PA  (between Rt 611 & Valley Square Blvd) \n5 pm til dusk\, All types of vehicles welcome \n  \nDates for all CCDV Cruise Nights: \nApril 19th \nMay 17th \nJune 21st \nJuly 19th \nAugust 16th \nSeptember 20th
URL:https://www.ccdv.com/event/ccdv-cruise-night-3/
END:VEVENT
BEGIN:VEVENT
DTSTART;TZID=America/New_York:20250618T190000
DTEND;TZID=America/New_York:20250618T203000
DTSTAMP:20260422T174759
CREATED:20250214T040113Z
LAST-MODIFIED:20250214T040113Z
UID:27992-1750273200-1750278600@www.ccdv.com
SUMMARY:CCDV General Membership Meeting
DESCRIPTION:All Members & potential new members are welcome. \nWarminster VFW Post #649 \n645 Louis Dr\, Warminster\, PA 18974
URL:https://www.ccdv.com/event/ccdv-general-membership-meeting-4/
END:VEVENT
BEGIN:VEVENT
DTSTART;TZID=America/New_York:20250612T190000
DTEND;TZID=America/New_York:20250612T200000
DTSTAMP:20260422T174759
CREATED:20250301T015143Z
LAST-MODIFIED:20250301T015143Z
UID:28196-1749754800-1749758400@www.ccdv.com
SUMMARY:CCDV Board Mtg via Zoom
DESCRIPTION:
URL:https://www.ccdv.com/event/ccdv-board-mtg-via-zoom-4/
END:VEVENT
BEGIN:VEVENT
DTSTART;TZID=America/New_York:20250608T180000
DTEND;TZID=America/New_York:20250608T200000
DTSTAMP:20260422T174759
CREATED:20250528T040927Z
LAST-MODIFIED:20250528T041753Z
UID:28710-1749405600-1749412800@www.ccdv.com
SUMMARY:Dinner at GIUSEPPE'S LANSDALE on SUNDAY\, June 8th at 6pm
DESCRIPTION:TO SIGN-UP: Call or text John B at 215-208-6620….or….post a reponse on The FORUM on the CCDV Website.
URL:https://www.ccdv.com/event/dinner-at-giuseppes-lansdale-on-sunday-june-8th-at-6pm/
END:VEVENT
BEGIN:VEVENT
DTSTART;VALUE=DATE:20250607
DTEND;VALUE=DATE:20250608
DTSTAMP:20260422T174759
CREATED:20250214T042944Z
LAST-MODIFIED:20250301T020151Z
UID:28017-1749254400-1749340799@www.ccdv.com
SUMMARY:Springfest Corvette Show
DESCRIPTION:Allentown Area Corvette Club hosts the Springfest Corvette Show \nLet’s support our neighboring Corvette Club by showing up as a group. \nNew Location: Northampton Community College\, Bethlehem\, PA
URL:https://www.ccdv.com/event/springfest-corvette-show-2/
END:VEVENT
BEGIN:VEVENT
DTSTART;VALUE=DATE:20250531
DTEND;VALUE=DATE:20250601
DTSTAMP:20260422T174759
CREATED:20250408T200822Z
LAST-MODIFIED:20250408T200822Z
UID:28538-1748649600-1748735999@www.ccdv.com
SUMMARY:Mahogany & Steel  4th Annual Boat & Car Show
DESCRIPTION:
URL:https://www.ccdv.com/event/mahogany-steel-4th-annual-boat-car-show/
END:VEVENT
BEGIN:VEVENT
DTSTART;TZID=America/New_York:20250525T100000
DTEND;TZID=America/New_York:20250525T113000
DTSTAMP:20260422T174759
CREATED:20250504T231043Z
LAST-MODIFIED:20250504T231043Z
UID:28640-1748167200-1748172600@www.ccdv.com
SUMMARY:BREAKFAST at ZOTO'S DINER
DESCRIPTION:On SUNDAY\, MAY 25th at 10am. You can sign up in The FORUM ….or….by texting/calling Johnny Bacon at 215-208-6620
URL:https://www.ccdv.com/event/breakfast-at-zotos-diner/
END:VEVENT
BEGIN:VEVENT
DTSTART;TZID=America/New_York:20250521T190000
DTEND;TZID=America/New_York:20250521T203000
DTSTAMP:20260422T174759
CREATED:20250214T040006Z
LAST-MODIFIED:20250214T040006Z
UID:27990-1747854000-1747859400@www.ccdv.com
SUMMARY:CCDV General Membership Meeting
DESCRIPTION:All Members & potential new members are welcome. \nWarminster VFW Post #649 \n645 Louis Dr\, Warminster\, PA 18974
URL:https://www.ccdv.com/event/ccdv-general-membership-meeting-3/
END:VEVENT
BEGIN:VEVENT
DTSTART;TZID=America/New_York:20250517T170000
DTEND;TZID=America/New_York:20250517T200000
DTSTAMP:20260422T174759
CREATED:20250214T043815Z
LAST-MODIFIED:20250214T043815Z
UID:28023-1747501200-1747512000@www.ccdv.com
SUMMARY:CCDV Cruise Night
DESCRIPTION:Location: \nParking lot behind the shops at Valley Square (ie: PF Chang) \n1501 Main St\, Warrington\, PA  (between Rt 611 & Valley Square Blvd) \n5 pm til dusk\, All types of vehicles welcome \n  \nDates for all CCDV Cruise Nights: \nApril 19th \nMay 17th \nJune 21st \nJuly 19th \nAugust 16th \nSeptember 20th
URL:https://www.ccdv.com/event/ccdv-cruise-night-2/
END:VEVENT
BEGIN:VEVENT
DTSTART;TZID=America/New_York:20250508T190000
DTEND;TZID=America/New_York:20250508T200000
DTSTAMP:20260422T174759
CREATED:20250301T015101Z
LAST-MODIFIED:20250301T015101Z
UID:28194-1746730800-1746734400@www.ccdv.com
SUMMARY:CCDV Board Mtg via Zoom
DESCRIPTION:
URL:https://www.ccdv.com/event/ccdv-board-mtg-via-zoom-3/
END:VEVENT
END:VCALENDAR