BEGIN:VCALENDAR
VERSION:2.0
PRODID:-//Corvette Club of Delaware Valley - ECPv6.15.20//NONSGML v1.0//EN
CALSCALE:GREGORIAN
METHOD:PUBLISH
X-WR-CALNAME:Corvette Club of Delaware Valley
X-ORIGINAL-URL:https://www.ccdv.com
X-WR-CALDESC:Events for Corvette Club of Delaware Valley
REFRESH-INTERVAL;VALUE=DURATION:PT1H
X-Robots-Tag:noindex
X-PUBLISHED-TTL:PT1H
BEGIN:VTIMEZONE
TZID:America/New_York
BEGIN:DAYLIGHT
TZOFFSETFROM:-0500
TZOFFSETTO:-0400
TZNAME:EDT
DTSTART:20240310T070000
END:DAYLIGHT
BEGIN:STANDARD
TZOFFSETFROM:-0400
TZOFFSETTO:-0500
TZNAME:EST
DTSTART:20241103T060000
END:STANDARD
BEGIN:DAYLIGHT
TZOFFSETFROM:-0500
TZOFFSETTO:-0400
TZNAME:EDT
DTSTART:20250309T070000
END:DAYLIGHT
BEGIN:STANDARD
TZOFFSETFROM:-0400
TZOFFSETTO:-0500
TZNAME:EST
DTSTART:20251102T060000
END:STANDARD
BEGIN:DAYLIGHT
TZOFFSETFROM:-0500
TZOFFSETTO:-0400
TZNAME:EDT
DTSTART:20260308T070000
END:DAYLIGHT
BEGIN:STANDARD
TZOFFSETFROM:-0400
TZOFFSETTO:-0500
TZNAME:EST
DTSTART:20261101T060000
END:STANDARD
END:VTIMEZONE
BEGIN:VEVENT
DTSTART;TZID=America/New_York:20250426T080000
DTEND;TZID=America/New_York:20250426T120000
DTSTAMP:20260422T220518
CREATED:20250423T030957Z
LAST-MODIFIED:20250423T030957Z
UID:28604-1745654400-1745668800@www.ccdv.com
SUMMARY:Cars & Coffee in Newtown
DESCRIPTION:Cars & Coffee Cruise-In\n\n\n\n\n\n\n\nGet set to rev your engines and your awareness! Join us on Saturday\, April 26th\, 8:00AM – 12:00PM\, for a car cruise\, coffee\, story time\, and more to celebrate Autism Acceptance Month with Potential. All are welcome to this family-friendly community event.\n\n\n\n\n\n\nLearn More\n\n\n\n\n\n\n\n\n\n\n\n\n\n\n\n\n\n\n\n\n\n\n\n\n\n\n\n\n\n\n\n\n\n\n\n\n\n\nSpringtime School\n170 Pheasant Run\, Suite 100\, Newtown\, PA 18940\nView on map\n\n\n\n\n\n\n\n\n\n\n\n\n\n\n\n\n\n\n\n\n\n\n\nApr 26\, 2025 08:00am – Apr 26\, 2025 12:00pm \nAdd to Google · Outlook Web · Outlook Mobile · Yahoo · iCal\n\n\n\n\n\n\n\n\n\n\n\nRegister
URL:https://www.ccdv.com/event/cars-coffee-in-newtown/
END:VEVENT
BEGIN:VEVENT
DTSTART;TZID=America/New_York:20250426T100000
DTEND;TZID=America/New_York:20250426T113000
DTSTAMP:20260422T220518
CREATED:20250331T012457Z
LAST-MODIFIED:20250331T012623Z
UID:28495-1745661600-1745667000@www.ccdv.com
SUMMARY:Breakfast at Franconia Square Cafe on SATURDAY\, April 26th at 10:00am
DESCRIPTION:Sign Up on the FORUM or CALL JOHNNY BACON at 215-208-6620
URL:https://www.ccdv.com/event/breakfast-at-franconia-square-cafe-on-saturday-april-26th-at-1000am/
END:VEVENT
END:VCALENDAR