BEGIN:VCALENDAR
VERSION:2.0
PRODID:-//Corvette Club of Delaware Valley - ECPv6.15.20//NONSGML v1.0//EN
CALSCALE:GREGORIAN
METHOD:PUBLISH
X-WR-CALNAME:Corvette Club of Delaware Valley
X-ORIGINAL-URL:https://www.ccdv.com
X-WR-CALDESC:Events for Corvette Club of Delaware Valley
REFRESH-INTERVAL;VALUE=DURATION:PT1H
X-Robots-Tag:noindex
X-PUBLISHED-TTL:PT1H
BEGIN:VTIMEZONE
TZID:America/New_York
BEGIN:DAYLIGHT
TZOFFSETFROM:-0500
TZOFFSETTO:-0400
TZNAME:EDT
DTSTART:20230312T070000
END:DAYLIGHT
BEGIN:STANDARD
TZOFFSETFROM:-0400
TZOFFSETTO:-0500
TZNAME:EST
DTSTART:20231105T060000
END:STANDARD
BEGIN:DAYLIGHT
TZOFFSETFROM:-0500
TZOFFSETTO:-0400
TZNAME:EDT
DTSTART:20240310T070000
END:DAYLIGHT
BEGIN:STANDARD
TZOFFSETFROM:-0400
TZOFFSETTO:-0500
TZNAME:EST
DTSTART:20241103T060000
END:STANDARD
BEGIN:DAYLIGHT
TZOFFSETFROM:-0500
TZOFFSETTO:-0400
TZNAME:EDT
DTSTART:20250309T070000
END:DAYLIGHT
BEGIN:STANDARD
TZOFFSETFROM:-0400
TZOFFSETTO:-0500
TZNAME:EST
DTSTART:20251102T060000
END:STANDARD
END:VTIMEZONE
BEGIN:VEVENT
DTSTART;VALUE=DATE:20240704
DTEND;VALUE=DATE:20240705
DTSTAMP:20260423T112529
CREATED:20240507T025045Z
LAST-MODIFIED:20240516T014611Z
UID:25629-1720051200-1720137599@www.ccdv.com
SUMMARY:Independence Day !
DESCRIPTION:
URL:https://www.ccdv.com/event/independence-day/
END:VEVENT
BEGIN:VEVENT
DTSTART;TZID=America/New_York:20240704T090000
DTEND;TZID=America/New_York:20240704T110000
DTSTAMP:20260423T112529
CREATED:20240614T010153Z
LAST-MODIFIED:20240614T010232Z
UID:26042-1720083600-1720090800@www.ccdv.com
SUMMARY:Oreland July 4th Parade
DESCRIPTION:When : 9am on Thursday\, July 4th \nWhere: Meet at the ACME at 1825 Limekiln Pike\, Dresher\, PA 19025 \nCost: Free \nNo Signup required – ALL Members are welcome! \nBring LOTS of Candy to throw to the kids along the Parade route. \nFood & Drinks at the Oreland Firehouse afterwards.
URL:https://www.ccdv.com/event/oreland-july-4th-parade/
END:VEVENT
END:VCALENDAR